View In:
ArcGIS JavaScript
ArcGIS Online Map Viewer
ArcGIS Earth
Service Description: GOV/CNHP_Conservation_Summary_CS
Name: GOV/CNHP_Conservation_Summary_CS
Description:
Single Fused Map Cache: false
Extent:
XMin: 139950.6951237889
YMin: 4094057.186781793
XMax: 763230.6951237889
YMax: 4546757.186781793
Spatial Reference: 26913
(26913)
LatestVCSWkid(0)
Initial Extent:
XMin: 139950.6951237889
YMin: 4094057.186781793
XMax: 763230.6951237889
YMax: 4546757.186781793
Spatial Reference: 26913
(26913)
LatestVCSWkid(0)
Full Extent:
XMin: 139950.6951237889
YMin: 4094057.186781793
XMax: 763230.6951237889
YMax: 4546757.186781793
Spatial Reference: 26913
(26913)
LatestVCSWkid(0)
Pixel Size X: 30.0
Pixel Size Y: 30.0
Band Count: 1
Pixel Type: F32
RasterFunction Infos: {"rasterFunctionInfos": [{
"name": "None",
"description": "",
"help": ""
}]}
Mensuration Capabilities: Basic
Has Histograms: true
Has Colormap: false
Has Multi Dimensions : false
Rendering Rule:
Min Scale: 0
Max Scale: 0
Copyright Text:
Service Data Type: esriImageServiceDataTypeGeneric
Min Values: 0
Max Values: 10
Mean Values: 6.5528065500922
Standard Deviation Values: 1.1947057662701
Object ID Field:
Fields:
None
Default Mosaic Method: Center
Allowed Mosaic Methods:
SortField:
SortValue: null
Mosaic Operator: First
Default Compression Quality: 75
Default Resampling Method: Bilinear
Max Record Count: null
Max Image Height: 4100
Max Image Width: 15000
Max Download Image Count: null
Max Mosaic Image Count: null
Allow Raster Function: true
Allow Copy: true
Allow Analysis: true
Allow Compute TiePoints: false
Supports Statistics: false
Supports Advanced Queries: false
Use StandardizedQueries: true
Raster Type Infos:
Name: Raster Dataset
Description: Supports all ArcGIS Raster Datasets
Help:
Has Raster Attribute Table: false
Edit Fields Info: null
Ownership Based AccessControl For Rasters: null
Child Resources:
Info
Histograms
Statistics
Key Properties
Legend
Raster Function Infos
Supported Operations:
Export Image
Identify
Measure
Compute Histograms
Compute Statistics Histograms
Get Samples
Compute Class Statistics
Query Boundary
Compute Pixel Location
Compute Angles
Validate
Project